BEGIN:VCALENDAR
VERSION:2.0
PRODID:-//Plone.org//NONSGML plone.app.event//EN
X-WR-TIMEZONE:Europe/Berlin
BEGIN:VEVENT
SUMMARY:La Metelli incontra... l'Intelligenza Artificiale
DTSTART;TZID=Europe/Berlin:20250313T173000
DTSTAMP:20260421T031041Z
UID:f1cdb2cf117946dea9cf336b67053138@gag.cab.unipd.it:9513
CATEGORIES:eventi metelli,Sistema bibliotecario di ateneo,biblioteche
CONTACT:Massimo Ferrante\, 049 8276470\, biblioteca.psicologia@unipd.it
CREATED:20250228T140038Z
DESCRIPTION:Giovedì 13 marzo. Conferenza alla Biblioteca di Psicologia in
  occasione della mostra "Supercharged by AI"
LAST-MODIFIED:20250310T113131Z
LOCATION:Aula 2B edificio Psico 2\, Via Venezia 12/2 - Padova
URL:https://biblio.unipd.it/news/la-metelli-incontra-lintelligenza-artific
 iale
END:VEVENT
BEGIN:VTIMEZONE
TZID:Europe/Berlin
X-LIC-LOCATION:Europe/Berlin
BEGIN:STANDARD
DTSTART:20241027T020000
TZNAME:CET
TZOFFSETFROM:+0200
TZOFFSETTO:+0100
END:STANDARD
END:VTIMEZONE
END:VCALENDAR
