BEGIN:VCALENDAR
VERSION:2.0
PRODID:-//Plone.org//NONSGML plone.app.event//EN
X-WR-TIMEZONE:Europe/Berlin
BEGIN:VEVENT
SUMMARY:Presentazione del volume "Italiani d'Africa" di Alessandra Vigo
DTSTART;TZID=Europe/Berlin:20260218T170000
DTEND;TZID=Europe/Berlin:20260218T190000
DTSTAMP:20260420T093400Z
UID:e86e9bbd321c4c07b780521ade08a1c5@gag.cab.unipd.it:9513
CONTACT:0498278510\, biblio.storia@unipd.it\, https://www.eventbrite.it/e/
 biglietti-italiani-dafrica-racconti-del-ritorno-1940-2024-di-alessandra-vi
 go-1980448252034
CREATED:20260211T122054Z
DESCRIPTION:Nuovo appuntamento della rassegna "E la Storia continua..." me
 rcoledì 18 febbraio alla Biblioteca di Storia
LAST-MODIFIED:20260306T072037Z
LOCATION:Sala O - Biblioteca di Storia - via del Vescovado\, 30 - Padova
URL:https://biblio.unipd.it/news/e-la-storia-continua-con-alessandra-vigo
END:VEVENT
BEGIN:VTIMEZONE
TZID:Europe/Berlin
X-LIC-LOCATION:Europe/Berlin
BEGIN:STANDARD
DTSTART:20251026T020000
TZNAME:CET
TZOFFSETFROM:+0200
TZOFFSETTO:+0100
END:STANDARD
END:VTIMEZONE
END:VCALENDAR
