BEGIN:VCALENDAR
VERSION:2.0
PRODID:-//Plone.org//NONSGML plone.app.event//EN
X-WR-TIMEZONE:Europe/Berlin
BEGIN:VEVENT
SUMMARY:Anna Foa presenta il libro "Il suicidio di Israele"
DTSTART;TZID=Europe/Berlin:20260325T170000
DTEND;TZID=Europe/Berlin:20260325T190000
DTSTAMP:20260420T020554Z
UID:a7ef33685bbe4ed4905f05f2cc4c3ded@gag.cab.unipd.it:9513
CONTACT:049 8274015\, biblio.scipol@unipd.it
CREATED:20260318T161926Z
DESCRIPTION:Incontro con l'autrice mercoledì 25 marzo a Palazzo Wollembor
 g
LAST-MODIFIED:20260319T070821Z
LOCATION:Salone degli Specchi di Palazzo Wollemborg\, via del Santo 26\, P
 adova
URL:https://biblio.unipd.it/news/anna-foa-presenta-il-suicidio-di-israele
END:VEVENT
BEGIN:VTIMEZONE
TZID:Europe/Berlin
X-LIC-LOCATION:Europe/Berlin
BEGIN:STANDARD
DTSTART:20251026T020000
TZNAME:CET
TZOFFSETFROM:+0200
TZOFFSETTO:+0100
END:STANDARD
END:VTIMEZONE
END:VCALENDAR
